BEGIN:VCALENDAR
VERSION:2.0
PRODID:-//ARC - ECPv6.15.13//NONSGML v1.0//EN
CALSCALE:GREGORIAN
METHOD:PUBLISH
X-WR-CALNAME:ARC
X-ORIGINAL-URL:https://artisticresearchinthenorth.nl
X-WR-CALDESC:Events for ARC
REFRESH-INTERVAL;VALUE=DURATION:PT1H
X-Robots-Tag:noindex
X-PUBLISHED-TTL:PT1H
BEGIN:VTIMEZONE
TZID:Europe/Amsterdam
BEGIN:DAYLIGHT
TZOFFSETFROM:+0100
TZOFFSETTO:+0200
TZNAME:CEST
DTSTART:20200329T010000
END:DAYLIGHT
BEGIN:STANDARD
TZOFFSETFROM:+0200
TZOFFSETTO:+0100
TZNAME:CET
DTSTART:20201025T010000
END:STANDARD
BEGIN:DAYLIGHT
TZOFFSETFROM:+0100
TZOFFSETTO:+0200
TZNAME:CEST
DTSTART:20210328T010000
END:DAYLIGHT
BEGIN:STANDARD
TZOFFSETFROM:+0200
TZOFFSETTO:+0100
TZNAME:CET
DTSTART:20211031T010000
END:STANDARD
BEGIN:DAYLIGHT
TZOFFSETFROM:+0100
TZOFFSETTO:+0200
TZNAME:CEST
DTSTART:20220327T010000
END:DAYLIGHT
BEGIN:STANDARD
TZOFFSETFROM:+0200
TZOFFSETTO:+0100
TZNAME:CET
DTSTART:20221030T010000
END:STANDARD
BEGIN:DAYLIGHT
TZOFFSETFROM:+0100
TZOFFSETTO:+0200
TZNAME:CEST
DTSTART:20230326T010000
END:DAYLIGHT
BEGIN:STANDARD
TZOFFSETFROM:+0200
TZOFFSETTO:+0100
TZNAME:CET
DTSTART:20231029T010000
END:STANDARD
END:VTIMEZONE
BEGIN:VEVENT
DTSTART;TZID=Europe/Amsterdam:20220614T170000
DTEND;TZID=Europe/Amsterdam:20220614T200000
DTSTAMP:20260423T114522
CREATED:20220528T104544Z
LAST-MODIFIED:20220528T110447Z
UID:2243-1655226000-1655236800@artisticresearchinthenorth.nl
SUMMARY:ARC Eats and talks about ARC Talks 2022/2023
DESCRIPTION:Possibly at Peizerweg 255
URL:https://artisticresearchinthenorth.nl/event/arc-eats-and-talks-about-arc-talks-2022-2023/
CATEGORIES:admin
END:VEVENT
BEGIN:VEVENT
DTSTART;TZID=Europe/Amsterdam:20220503T093000
DTEND;TZID=Europe/Amsterdam:20220503T113000
DTSTAMP:20260423T114522
CREATED:20220208T093157Z
LAST-MODIFIED:20220328T135810Z
UID:2019-1651570200-1651577400@artisticresearchinthenorth.nl
SUMMARY:ARC Writes 6
DESCRIPTION:
URL:https://artisticresearchinthenorth.nl/event/arc-writes-6-2/
CATEGORIES:admin
END:VEVENT
BEGIN:VEVENT
DTSTART;TZID=Europe/Amsterdam:20220428T170000
DTEND;TZID=Europe/Amsterdam:20220428T200000
DTSTAMP:20260423T114522
CREATED:20220410T130612Z
LAST-MODIFIED:20220410T130641Z
UID:2161-1651165200-1651176000@artisticresearchinthenorth.nl
SUMMARY:ARChive 1st encounter
DESCRIPTION:@ Inbal’s Studio\, Travertijnstraat 6\, Groningen
URL:https://artisticresearchinthenorth.nl/event/archive1st-encounter/
CATEGORIES:admin
END:VEVENT
BEGIN:VEVENT
DTSTART;TZID=Europe/Amsterdam:20220412T083000
DTEND;TZID=Europe/Amsterdam:20220412T093000
DTSTAMP:20260423T114522
CREATED:20220316T121514Z
LAST-MODIFIED:20220316T121515Z
UID:2106-1649752200-1649755800@artisticresearchinthenorth.nl
SUMMARY:Not Knowing Meeting (core members)
DESCRIPTION:
URL:https://artisticresearchinthenorth.nl/event/not-knowing-meeting-core-members/
CATEGORIES:admin
END:VEVENT
BEGIN:VEVENT
DTSTART;TZID=Europe/Amsterdam:20220301T090000
DTEND;TZID=Europe/Amsterdam:20220301T110000
DTSTAMP:20260423T114522
CREATED:20220216T085700Z
LAST-MODIFIED:20220216T085700Z
UID:2040-1646125200-1646132400@artisticresearchinthenorth.nl
SUMMARY:Not Knowing Meeting 2
DESCRIPTION:
URL:https://artisticresearchinthenorth.nl/event/not-knowing-meeting-2/
CATEGORIES:admin
END:VEVENT
BEGIN:VEVENT
DTSTART;TZID=Europe/Amsterdam:20220222T133000
DTEND;TZID=Europe/Amsterdam:20220222T163000
DTSTAMP:20260423T114522
CREATED:20220216T085221Z
LAST-MODIFIED:20220216T085221Z
UID:2038-1645536600-1645547400@artisticresearchinthenorth.nl
SUMMARY:Meeting Bio's (ARC Writing)
DESCRIPTION:
URL:https://artisticresearchinthenorth.nl/event/meeting-bios-arc-writing/
CATEGORIES:admin
END:VEVENT
BEGIN:VEVENT
DTSTART;TZID=Europe/Amsterdam:20220221T100000
DTEND;TZID=Europe/Amsterdam:20220221T113000
DTSTAMP:20260423T114522
CREATED:20220216T085104Z
LAST-MODIFIED:20220216T085104Z
UID:2036-1645437600-1645443000@artisticresearchinthenorth.nl
SUMMARY:Not Knowing Meeting 1
DESCRIPTION:
URL:https://artisticresearchinthenorth.nl/event/not-knowing-meeting-1/
CATEGORIES:admin
END:VEVENT
BEGIN:VEVENT
DTSTART;TZID=Europe/Amsterdam:20220105T100000
DTEND;TZID=Europe/Amsterdam:20220105T110000
DTSTAMP:20260423T114522
CREATED:20211208T111743Z
LAST-MODIFIED:20220105T085725Z
UID:1777-1641376800-1641380400@artisticresearchinthenorth.nl
SUMMARY:ARC Writes 3
DESCRIPTION:Based on the last writing session\, we planned a new one beginning of the new year. \nhttps://teams.microsoft.com/l/meetup-join/19%3ameeting_NjllN2VkZjgtMmEwNi00ZjBiLWJhZGEtNmFlZmU1ZDc0MTFl%40thread.v2/0?context=%7b%22Tid%22%3a%220d5a0461-3cf5-437f-ae79-f1cd7cb2683a%22%2c%22Oid%22%3a%22cd636175-6388-4c66-84e9-ea21fbdc4c82%22%7d \nhosted by: K. and go with the flow? \nwhen: 05/01 10:00-11:00 \nlocation: on Teams \ncontext: writing session
URL:https://artisticresearchinthenorth.nl/event/writing-session-3/
CATEGORIES:admin
END:VEVENT
BEGIN:VEVENT
DTSTART;TZID=Europe/Amsterdam:20210922T100000
DTEND;TZID=Europe/Amsterdam:20210922T120000
DTSTAMP:20260423T114522
CREATED:20210906T131144Z
LAST-MODIFIED:20210906T131530Z
UID:1644-1632304800-1632312000@artisticresearchinthenorth.nl
SUMMARY:YEAR KICK-START !
DESCRIPTION:back to (real) life\n*with hybridized option \nAfter a year of on-line communication\, lets start the ARC’s 3rd year in real-life\, do some catching-up and getting a hold on the state of things – mainly to revisit last year’s conclusions and set a general agenda for the coming year. \nQuestions like – Will we ‘meet’ every week\, and will it be In person or On-line? If we meet physically – where will it be? Will we work as a group or will we subdivide into smaller work-groups around a task or topic? Our Publication\, where does it stand? Not-knowing\, Collaboration\, Presentations of fellow ARCer’s research…\n^^^\nThese topics and more will be addressed 🙂
URL:https://artisticresearchinthenorth.nl/event/year-kick-start/
LOCATION:BACKBONE A&A studio ?\, Travertijnstraat 12\, Groningen
CATEGORIES:admin
END:VEVENT
END:VCALENDAR